BEGIN:VCALENDAR
VERSION:2.0
PRODID:-//swoogo.com//NONSGML kigkonsult.se iCalcreator 2.41.90//
CALSCALE:GREGORIAN
UID:36656330-6264-4366-b830-393063363930
BEGIN:VEVENT
UID:e12eaf1fe421c1759f93769cecd9ecc8e52b18a3@swoogo.com
DTSTAMP:20260421T081541Z
DESCRIPTION:
DTSTART:20250317T000000Z
DTEND:20250317T003000Z
LAST-MODIFIED:20260421T081541Z
LOCATION:
SEQUENCE:0
STATUS:CONFIRMED
SUMMARY:Marie Claire UK Awards Schedule
TRANSP:OPAQUE
X-ALT-DESC:
BEGIN:VALARM
UID:61646131-3264-4930-b535-623166353135
ACTION:DISPLAY
DESCRIPTION:
TRIGGER:-PT15M
END:VALARM
END:VEVENT
END:VCALENDAR
